BEGIN:VCALENDAR
VERSION:2.0
PRODID:-//Landknirpse –  Die Zeitschrift für Leute mit Kindern - ECPv6.3.7//NONSGML v1.0//EN
CALSCALE:GREGORIAN
METHOD:PUBLISH
X-WR-CALNAME:Landknirpse –  Die Zeitschrift für Leute mit Kindern
X-ORIGINAL-URL:https://landknirpse.de
X-WR-CALDESC:Veranstaltungen für Landknirpse –  Die Zeitschrift für Leute mit Kindern
REFRESH-INTERVAL;VALUE=DURATION:PT1H
X-Robots-Tag:noindex
X-PUBLISHED-TTL:PT1H
BEGIN:VTIMEZONE
TZID:Europe/Berlin
BEGIN:DAYLIGHT
TZOFFSETFROM:+0100
TZOFFSETTO:+0200
TZNAME:CEST
DTSTART:20260329T010000
END:DAYLIGHT
BEGIN:STANDARD
TZOFFSETFROM:+0200
TZOFFSETTO:+0100
TZNAME:CET
DTSTART:20261025T010000
END:STANDARD
END:VTIMEZONE
BEGIN:VEVENT
DTSTART;TZID=Europe/Berlin:20260425T100000
DTEND;TZID=Europe/Berlin:20260425T160000
DTSTAMP:20260422T170115
CREATED:20260207T203111Z
LAST-MODIFIED:20260207T203111Z
UID:10022346-1777111200-1777132800@landknirpse.de
SUMMARY:Pilgertag
DESCRIPTION:für Kinder und Erwachsene\, Naturerlebnis-Tag im Wald mit Picknick und Andacht\, 0151 42843125
URL:https://landknirpse.de/veranstaltung/pilgertag-2/
LOCATION:Weitenhagen\, Ort kann erfragt werden\, Weitenhagen\, 17498
CATEGORIES:O Binnenland OVP
END:VEVENT
END:VCALENDAR